BEGIN:VCALENDAR
VERSION:2.0
PRODID:-//Tukios.com/
BEGIN:VEVENT
UID:af3fa53d-41ca-4412-bdbd-e58a1b0807fe@www.beardsleyfuneralhome.com
DTSTAMP:20260423T222422Z
DTSTART:20260427T150000Z
DTEND:20260427T160000Z
SUMMARY:Funeral Service
DESCRIPTION:
URL:https://www.beardsleyfuneralhome.com/obituaries/joseph-hess
LOCATION:Beardsley Funeral Home & Crematory 113 N. Third St.  Clearfield 
	PA 16830
GEO:41.0239487;-78.435804
END:VEVENT
END:VCALENDAR