BEGIN:VCALENDAR
VERSION:2.0
PRODID:-//Tukios.com/
BEGIN:VEVENT
UID:ade241fd-59aa-49e0-8f03-bb6be504025d@www.beardsleyfuneralhome.com
DTSTAMP:20260423T221858Z
DTSTART:20260426T180000Z
DTEND:20260426T210000Z
SUMMARY:Public Viewing
DESCRIPTION:
URL:https://www.beardsleyfuneralhome.com/obituaries/joseph-hess
LOCATION:Beardsley Funeral Home & Crematory 113 N. Third St.  Clearfield 
	PA 16830
GEO:41.0239487;-78.435804
END:VEVENT
END:VCALENDAR