BEGIN:VCALENDAR
VERSION:2.0
PRODID:-//Tukios.com/
BEGIN:VEVENT
UID:d49a63ea-d216-4c0a-9d7b-281176344552@www.beardsleyfuneralhome.com
DTSTAMP:20260423T222657Z
DTSTART:20260427T140000Z
DTEND:20260427T150000Z
SUMMARY:Public Viewing
DESCRIPTION:
URL:https://www.beardsleyfuneralhome.com/obituaries/joseph-hess
LOCATION:Beardsley Funeral Home & Crematory 113 N. Third St.  Clearfield 
	PA 16830
GEO:41.0239487;-78.435804
END:VEVENT
END:VCALENDAR