BEGIN:VCALENDAR
VERSION:2.0
PRODID:-//Tukios.com/
BEGIN:VEVENT
UID:5856df6a-a2a2-437c-abcc-cb5be00c4138@www.beardsleyfuneralhome.com
DTSTAMP:20260421T100823Z
DTSTART:20260425T160000Z
DTEND:20260425T170000Z
SUMMARY:Memorial Service
DESCRIPTION:
URL:https://www.beardsleyfuneralhome.com/obituaries/robert-kurtz
LOCATION:Clearfield Presbyterian Church 119 North 2nd Street  Clearfield 
	PA 16830
GEO:41.0242375;-78.4376283
END:VEVENT
END:VCALENDAR